BEGIN:VCALENDAR
VERSION:2.0
PRODID:-//See It Early//Screenings//EN
CALSCALE:GREGORIAN
METHOD:PUBLISH
X-WR-CALNAME:See It Early — Traverse City\, MI
X-WR-CALDESC:Upcoming advance screenings and film events in Traverse City\,
  MI
X-PUBLISHED-TTL:PT1H
REFRESH-INTERVAL;VALUE=DURATION:PT1H
BEGIN:VEVENT
UID:cmo8e668l000x81huq5ny18dd@seeitearly.com
DTSTAMP:2026042
 3T101317Z
DTSTART:20260713T120000Z
DTEND:20260713T140000Z
SUMMARY:John 
 Williams: Star Wars and Beyond
LOCATION:Traverse City\, MI
URL:https://s
 eeitearly.com/events/john-williams-star-wars-and-beyond-screen
 ing-trave
 rse-city-jul-13-26
END:VEVENT
END:VCALENDAR
