BEGIN:VCALENDAR
VERSION:2.0
PRODID:-//See It Early//Screenings//EN
CALSCALE:GREGORIAN
METHOD:PUBLISH
X-WR-CALNAME:See It Early — South Pasadena\, CA
X-WR-CALDESC:Upcoming advance screenings and film events in South Pasadena\
 , CA
X-PUBLISHED-TTL:PT1H
REFRESH-INTERVAL;VALUE=DURATION:PT1H
BEGIN:VEVENT
UID:cmo67dwc30000u3h7wvq0ifnz@seeitearly.com
DTSTAMP:2026042
 0T004522Z
DTSTART:20260514T120000Z
DTEND:20260514T120000Z
SUMMARY:Celeb
 rity Caregiver - Special Advance Screening [Documentary] (Free
 )
LOCATI
 ON:South Pasadena Public Library - Community Room\, South Pasadena\, 
 CA
 
DESCRIPTION:A special advance screening of the new documentary\, Celebri
 ty 
 Caregiver. Feedback session with the filmmakers to follow.
URL:http
 s://seeitearly.com/events/celebrity-caregiver-special-advance-scree
 ning
 -documentary-free-south-pasadena-public-library-community-room-south-p
 a
 sadena-may-14-26
END:VEVENT
END:VCALENDAR
