BEGIN:VCALENDAR
VERSION:2.0
PRODID:-//See It Early//Screenings//EN
CALSCALE:GREGORIAN
METHOD:PUBLISH
X-WR-CALNAME:See It Early — Rutherford\, NJ
X-WR-CALDESC:Upcoming advance screenings and film events in Rutherford\, NJ
X-PUBLISHED-TTL:PT1H
REFRESH-INTERVAL;VALUE=DURATION:PT1H
BEGIN:VEVENT
UID:cmo6elyw20000134waolo7zer@seeitearly.com
DTSTAMP:2026042
 0T035010Z
DTSTART:20260424T211500Z
DTEND:20260424T231500Z
SUMMARY:Singi
 n' In The Rain (1952)
LOCATION:Williams Center - Cinema Underground - Rut
 herford\, Rutherford\, N
 J
DESCRIPTION:A silent film star falls for a c
 horus girl just as he and his d
 elusionally jealous screen partner are t
 rying to make the difficult transi
 tion to talking pictures in 1920s Hol
 lywood.
URL:https://seeitearly.com/events/singin-in-the-rain-1952-william
 s-center-c
 inema-underground-rutherford-rutherford-apr-24-26
END:VEVENT
BEGIN:VEVENT
UID:cmo6elyw30002134wg2d5qa51@seeitearly.com
DTSTAMP:2026042
 0T035010Z
DTSTART:20260425T211500Z
DTEND:20260425T231500Z
SUMMARY:Singi
 n' In The Rain (1952)
LOCATION:Williams Center - Cinema Underground - Rut
 herford\, Rutherford\, N
 J
DESCRIPTION:A silent film star falls for a c
 horus girl just as he and his d
 elusionally jealous screen partner are t
 rying to make the difficult transi
 tion to talking pictures in 1920s Hol
 lywood.
URL:https://seeitearly.com/events/singin-in-the-rain-1952-william
 s-center-c
 inema-underground-rutherford-rutherford-apr-25-26
END:VEVENT
BEGIN:VEVENT
UID:cmo6elyw30003134w4zzylbhw@seeitearly.com
DTSTAMP:2026042
 0T035010Z
DTSTART:20260426T211500Z
DTEND:20260426T231500Z
SUMMARY:Singi
 n' In The Rain (1952)
LOCATION:Williams Center - Cinema Underground - Rut
 herford\, Rutherford\, N
 J
DESCRIPTION:A silent film star falls for a c
 horus girl just as he and his d
 elusionally jealous screen partner are t
 rying to make the difficult transi
 tion to talking pictures in 1920s Hol
 lywood.
URL:https://seeitearly.com/events/singin-in-the-rain-1952-william
 s-center-c
 inema-underground-rutherford-rutherford-apr-26-26
END:VEVENT
BEGIN:VEVENT
UID:cmo6elyw30005134wzyu9ek8k@seeitearly.com
DTSTAMP:2026042
 0T035010Z
DTSTART:20260428T211500Z
DTEND:20260428T231500Z
SUMMARY:Singi
 n' In The Rain (1952)
LOCATION:Williams Center - Cinema Underground - Rut
 herford\, Rutherford\, N
 J
DESCRIPTION:A silent film star falls for a c
 horus girl just as he and his d
 elusionally jealous screen partner are t
 rying to make the difficult transi
 tion to talking pictures in 1920s Hol
 lywood.
URL:https://seeitearly.com/events/singin-in-the-rain-1952-william
 s-center-c
 inema-underground-rutherford-rutherford-apr-28-26
END:VEVENT
END:VCALENDAR
