BEGIN:VCALENDAR
VERSION:2.0
PRODID:-//See It Early//Screenings//EN
CALSCALE:GREGORIAN
METHOD:PUBLISH
X-WR-CALNAME:See It Early — Plainville\, CT
X-WR-CALDESC:Upcoming advance screenings and film events in Plainville\, CT
X-PUBLISHED-TTL:PT1H
REFRESH-INTERVAL;VALUE=DURATION:PT1H
BEGIN:VEVENT
UID:cmoaqxm5c000mvxxz0ut1atop@seeitearly.com
DTSTAMP:2026042
 3T081555Z
DTSTART:20260504T190000Z
DTEND:20260504T210000Z
SUMMARY:🎬 FR
 EE — Star Wars: The Mandalorian and Grogu May the 4th IMAX Spe
 cial-Look
  Event
LOCATION:AMC Loews Plainville 20 - 220 New\, Plainville\, CT
DESC
 RIPTION:Once a lone bounty hunter\, Mandalorian Din Djarin and his appr
 
 entice Grogu embark on an exciting new Star Wars adventure.
URL:https://s
 eeitearly.com/events/star-wars-the-mandalorian-and-grogu-may-t
 he-4th-im
 ax-special-look-event-amc-loews-plainville-20-220-new-plainville-
 may-04
 -26
END:VEVENT
END:VCALENDAR
