BEGIN:VCALENDAR
VERSION:2.0
PRODID:-//See It Early//Screenings//EN
CALSCALE:GREGORIAN
METHOD:PUBLISH
X-WR-CALNAME:See It Early — Paso Robles\, CA
X-WR-CALDESC:Upcoming advance screenings and film events in Paso Robles\, C
 A
X-PUBLISHED-TTL:PT1H
REFRESH-INTERVAL;VALUE=DURATION:PT1H
BEGIN:VEVENT
UID:cmo6elyw4000h134wucuzto5h@seeitearly.com
DTSTAMP:2026042
 0T034929Z
DTSTART:20260628T030000Z
DTEND:20260628T050000Z
SUMMARY:Rodge
 rs & Hammerstein's The Sound Of Music Sing-A-Long
LOCATION:Vina Robles Am
 phitheatre\, Paso Robles\, CA
DESCRIPTION:EVENTS PLAY RAIN OR SHINE For m
 ore information on Vina Robles A
 mphitheatre\, please visit www.vinarobl
 esamphitheatre.com
URL:https://seeitearly.com/events/rodgers-hammersteins
 -the-sound-of-music-s
 ing-a-long-vina-robles-amphitheatre-paso-robles-ju
 n-27-26
END:VEVENT
END:VCALENDAR
