BEGIN:VCALENDAR
VERSION:2.0
PRODID:-//See It Early//Screenings//EN
CALSCALE:GREGORIAN
METHOD:PUBLISH
X-WR-CALNAME:See It Early — Palm Springs\, CA
X-WR-CALDESC:Upcoming advance screenings and film events in Palm Springs\, 
 CA
X-PUBLISHED-TTL:PT1H
REFRESH-INTERVAL;VALUE=DURATION:PT1H
BEGIN:VEVENT
UID:cmo6elyw4000a134wy3vih321@seeitearly.com
DTSTAMP:2026042
 0T035047Z
DTSTART:20260524T220000Z
DTEND:20260525T000000Z
SUMMARY:Sound
  of Music (Film)
LOCATION:Plaza Theatre\, Palm Springs\, CA
URL:https://
 seeitearly.com/events/sound-of-music-film-plaza-theatre-palm-sp
 rings-ma
 y-24-26
END:VEVENT
BEGIN:VEVENT
UID:cmo6elyw4000b134wwl4klc5s@seeitearly.com
DTSTAMP:2026042
 0T035047Z
DTSTART:20260530T020000Z
DTEND:20260530T040000Z
SUMMARY:Maril
 yn 100: A Centennial Film Celebration - Festival 4 Day Pass
LOCATION:Plaz
 a Theatre\, Palm Springs\, CA
DESCRIPTION:Friday\, May 29 - Seven Year It
 ch - 7pm- Film Society of Screwb
 all Comedy to do Intro and Talk Back. S
 aturday\, May 30 - Gentlemen Prefer
  Blondes with pre-show concert by th
 e Palm Springs Gay Mens Chorus (of Mar
 ilyn Music from GPB) - 7:30pm- Fi
 lm Society of Screwball Comedy to do intr
 o and Talk Back. Sunday\, May 
 31 - Some Like It Hot with pre-show concert 
 by Modern Men (of Marilyn M
 usic) - 2pm Film Society of Screwball Comedy to
  do intro and Talk Back.
  Monday\, June 1 - The Misfits (Marilyns last movi
 e) - 7pm Film Society
  of Screwball Comedy to do intro and Talk Back. Pre-M
 ovie Cocktail Part
 y in 
URL:https://seeitearly.com/events/marilyn-100-a-centennial-film-cel
 ebration
 -festival-4-day-pass-plaza-theatre-palm-springs-may-29-26
END:
 VEVENT
BEGIN:VEVENT
UID:cmo6elyw5000j134w1bhg6xo4@seeitearly.com
DTSTAMP:2026042
 0T035047Z
DTSTART:20260711T220000Z
DTEND:20260712T000000Z
SUMMARY:Greas
 e (Film)
LOCATION:Plaza Theatre\, Palm Springs\, CA
URL:https://seeitear
 ly.com/events/grease-film-plaza-theatre-palm-springs-ju
 l-11-26
END:VEV
 ENT
END:VCALENDAR
