BEGIN:VCALENDAR
VERSION:2.0
PRODID:-//See It Early//Screenings//EN
CALSCALE:GREGORIAN
METHOD:PUBLISH
X-WR-CALNAME:See It Early — Inglewood\, CA
X-WR-CALDESC:Upcoming advance screenings and film events in Inglewood\, CA
X-PUBLISHED-TTL:PT1H
REFRESH-INTERVAL;VALUE=DURATION:PT1H
BEGIN:VEVENT
UID:cmo6elyw30001134w2ikh4p8r@seeitearly.com
DTSTAMP:2026042
 0T033852Z
DTSTART:20260425T030000Z
DTEND:20260425T050000Z
SUMMARY:Cult 
 Classics Cinema Presents Lemonade
LOCATION:The Miracle Theater\, Inglewoo
 d\, CA
DESCRIPTION:10 Year Anniversary of the release of LEMONADE Visual 
 Album. Wa
 tch the full album along with the hive at Cult Classic Cinema\
 , curated by
  DJ Rosegawd. CCC is a cinematic and musical journey celebr
 ating classic B
 lack movies and the soundtracks that brought them to lif
 e. This series hon
 ors a time when music played a key role in creating t
 he vibe and world of 
 each film. After watching the movie of the month\,
  guests can dive into th
 e soundtrack experience and mingle with fellow 
 movie and music lovers for 
 a night of culture and nostalgia.
URL:https
 ://seeitearly.com/events/cult-classics-cinema-presents-lemonade-th
 e-mir
 acle-theater-inglewood-apr-24-26
END:VEVENT
END:VCALENDAR
