BEGIN:VCALENDAR
VERSION:2.0
PRODID:-//See It Early//Screenings//EN
CALSCALE:GREGORIAN
METHOD:PUBLISH
X-WR-CALNAME:See It Early — Hampton\, VA
X-WR-CALDESC:Upcoming advance screenings and film events in Hampton\, VA
X-PUBLISHED-TTL:PT1H
REFRESH-INTERVAL;VALUE=DURATION:PT1H
BEGIN:VEVENT
UID:cmo6elyw4000f134wta09yv0c@seeitearly.com
DTSTAMP:2026042
 0T034853Z
DTSTART:20260611T230000Z
DTEND:20260612T010000Z
SUMMARY:AN AM
 ERICAN IN PARIS - 7pm - Classic Movie Nights!
LOCATION:American Theatre\,
  Hampton\, VA
DESCRIPTION:Gene Kelly and Leslie Caron Sing and Dance Into
  Your Heart! Fea
 turing the music of George and Ira Gershwin\, and the w
 inner of six Academ
 y Awards\, including Best Picture\, this 1951 love l
 etter centers around e
 x-GI Jerry Mulligan (Kelly) remaining in Paris to
  pursue life as an artist
 . He is discovered by a wealthy patroness inte
 rested in more than his art.
  But Mulligan falls in love with a French s
 hop girl (Caron) who is engaged
  to his best friend. Stars Kelly\, Caron
 \, Oscar Levant\, Nina Foch and Ge
 orge Guetary. Directed by Vincent Min
 nelli. Quote: ?such a carefree life f
 ull of benevolent locals\,
URL:ht
 tps://seeitearly.com/events/an-american-in-paris-7pm-classic-movie-ni
 gh
 ts-american-theatre-hampton-jun-11-26
END:VEVENT
END:VCALENDAR
