BEGIN:VCALENDAR
VERSION:2.0
PRODID:-//See It Early//Screenings//EN
CALSCALE:GREGORIAN
METHOD:PUBLISH
X-WR-CALNAME:See It Early — Freeland\, MD
X-WR-CALDESC:Upcoming advance screenings and film events in Freeland\, MD
X-PUBLISHED-TTL:PT1H
REFRESH-INTERVAL;VALUE=DURATION:PT1H
BEGIN:VEVENT
UID:cmo6t1uwm000210zjo9fu1acm@seeitearly.com
DTSTAMP:2026042
 0T113105Z
DTSTART:20260508T120000Z
DTEND:20260508T120000Z
SUMMARY:ROCKY
  HORROR PICTURE SHOW SCREENING!
LOCATION:Black Locust Hops Farm Brewery\,
  Freeland\, MD
DESCRIPTION:We're showing Cult Classic: THE ROCKY HORROR P
 ICTURE SHOW in th
 e brewery!
URL:https://seeitearly.com/events/rocky-ho
 rror-picture-show-screening-black
 -locust-hops-farm-brewery-freeland-may
 -08-26
END:VEVENT
END:VCALENDAR
