BEGIN:VCALENDAR
VERSION:2.0
PRODID:-//See It Early//Screenings//EN
CALSCALE:GREGORIAN
METHOD:PUBLISH
X-WR-CALNAME:See It Early — Beaumont\, TX
X-WR-CALDESC:Upcoming advance screenings and film events in Beaumont\, TX
X-PUBLISHED-TTL:PT1H
REFRESH-INTERVAL;VALUE=DURATION:PT1H
BEGIN:VEVENT
UID:cmo6elyw40008134wp7tuqcck@seeitearly.com
DTSTAMP:2026042
 0T034249Z
DTSTART:20260516T000000Z
DTEND:20260516T020000Z
SUMMARY:Class
 ic Movie Night At The Jefferson: Dreamgirls
LOCATION:Jefferson Theatre\, 
 Beaumont\, TX
URL:https://seeitearly.com/events/classic-movie-night-at-th
 e-jefferson-drea
 mgirls-jefferson-theatre-beaumont-may-15-26
END:VEVENT
END:VCALENDAR
