BEGIN:VCALENDAR
VERSION:2.0
PRODID:-//See It Early//Screenings//EN
CALSCALE:GREGORIAN
METHOD:PUBLISH
X-WR-CALNAME:See It Early — Atlantic City\, NJ
X-WR-CALDESC:Upcoming advance screenings and film events in Atlantic City\,
  NJ
X-PUBLISHED-TTL:PT1H
REFRESH-INTERVAL;VALUE=DURATION:PT1H
BEGIN:VEVENT
UID:cmoadyb0y0005tof3a51a76v1@seeitearly.com
DTSTAMP:2026042
 3T081703Z
DTSTART:20260429T200000Z
DTEND:20260429T220000Z
SUMMARY:🎬 FR
 EE — The Devil Wears Prada 2
LOCATION:Atlantic City\, NJ
DESCRIPTION:As 
 Miranda Priestly nears retirement\, she reunites with Andy S
 achs to fac
 e off against her former assistant turned rival: Emily Charlton
 .
URL:h
 ttps://seeitearly.com/events/the-devil-wears-prada-2-screening-atlanti
 c
 -city-apr-29-26
END:VEVENT
END:VCALENDAR
